BEGIN:VCALENDAR
VERSION:2.0
PRODID:-//Tukios.com/
BEGIN:VEVENT
UID:82b94016-371b-4d21-8b48-fd55ee0d25ad@www.harris-fh.com
DTSTAMP:20260425T015350Z
DTSTART:20260502T140000Z
DTEND:20260502T160000Z
SUMMARY:Memorial Gathering
DESCRIPTION:
URL:https://www.harris-fh.com/obituaries/deborah-persons
LOCATION: 23 Triangle Rd  Liberty NY 12754
GEO:41.7890508;-74.7308264
END:VEVENT
END:VCALENDAR