BEGIN:VCALENDAR
VERSION:2.0
PRODID:-//Tukios.com/
BEGIN:VEVENT
UID:477af249-db96-4e7e-b329-b5cdfaed8548@www.harris-fh.com
DTSTAMP:20260425T015115Z
DTSTART:20260502T160000Z
DTEND:20260502T170000Z
SUMMARY:Celebration of Life
DESCRIPTION:
URL:https://www.harris-fh.com/obituaries/deborah-persons
LOCATION: 23 Triangle Rd  Liberty NY 12754
GEO:41.7890508;-74.7308264
END:VEVENT
END:VCALENDAR