BEGIN:VCALENDAR
VERSION:2.0
PRODID:-//Tukios.com/
BEGIN:VEVENT
UID:7935c21b-2ee8-4e30-bb19-f6d4d522c034@www.harris-fh.com
DTSTAMP:20260419T220846Z
DTSTART:20260501T150000Z
DTEND:20260501T160000Z
SUMMARY:Mass
DESCRIPTION:
URL:https://www.harris-fh.com/obituaries/frank-petrocelli
LOCATION: 264 N Main St  Liberty NY 12754
GEO:41.8037391;-74.7479942
END:VEVENT
END:VCALENDAR