BEGIN:VCALENDAR
VERSION:2.0
PRODID:-//Tukios.com/
BEGIN:VEVENT
UID:a362f1b5-7ccf-491c-b200-d394c00f9959@www.harris-fh.com
DTSTAMP:20260422T025704Z
DTSTART:20260423T200000Z
DTEND:20260423T230000Z
SUMMARY:Visitation
DESCRIPTION:
URL:https://www.harris-fh.com/obituaries/josephine-debellis
LOCATION: 11 Railroad Avenue  Roscoe NY 12776
GEO:41.9316834;-74.9128013
END:VEVENT
END:VCALENDAR