BEGIN:VCALENDAR
VERSION:2.0
PRODID:-//Tukios.com/
BEGIN:VEVENT
UID:8f18fb36-b2ec-4f91-a928-561b19fac044@www.harris-fh.com
DTSTAMP:20260422T025128Z
DTSTART:20260424T150000Z
DTEND:20260424T160000Z
SUMMARY:Funeral Service
DESCRIPTION:
URL:https://www.harris-fh.com/obituaries/josephine-debellis
LOCATION: 11 Railroad Avenue  Roscoe NY 12776
GEO:41.9316834;-74.9128013
END:VEVENT
END:VCALENDAR